BEGIN:VCALENDAR
VERSION:2.0
PRODID:-//Unite Event - ECPv6.15.17.1//NONSGML v1.0//EN
CALSCALE:GREGORIAN
METHOD:PUBLISH
X-WR-CALNAME:Unite Event
X-ORIGINAL-URL:https://unitevent.com
X-WR-CALDESC:Events for Unite Event
REFRESH-INTERVAL;VALUE=DURATION:PT1H
X-Robots-Tag:noindex
X-PUBLISHED-TTL:PT1H
BEGIN:VTIMEZONE
TZID:UTC
BEGIN:STANDARD
TZOFFSETFROM:+0000
TZOFFSETTO:+0000
TZNAME:UTC
DTSTART:20240101T000000
END:STANDARD
END:VTIMEZONE
BEGIN:VEVENT
DTSTART;TZID=UTC:20250508T080000
DTEND;TZID=UTC:20250511T233000
DTSTAMP:20260425T103344
CREATED:20250415T143037Z
LAST-MODIFIED:20260330T141525Z
UID:7611-1746691200-1747006200@unitevent.com
SUMMARY:Rong Open Air Festival Malta 2025
DESCRIPTION:🎧 THE NEW HOME OF TRANCE IN EUROPE – OUTDOOR RAVE FESTIVAL IN MALTA 🌅💥Sun. Sound. Trance. Paradise. \nBeen looking for the ultimate Trance festival in Europe?This is it. Your search ends here. Welcome to the new home of Trance — under the sun\, by the sea\, and surrounded by thousands of ravers who live for the drop. \n🔥 After years of dreaming\, we’re finally launching our own open-air rave experience—and we’re doing it where the vibes hit different: MALTA.No more muddy fields or washed-out weekends.Just sun-soaked days\, epic sunsets\, and non-stop Trance music from your favorite artists. \nWhether you’re planning your first rave abroad or you’re a festival pro\, this is your chance to dance in a new destination with perfect weather\, affordable flights\, and beachside parties you’ll never forget. \n🎟️ Tickets coming soon – sign up to be the first in line📍 Location: Malta🔊 Genre: Trance / Progressive / Tech / Uplifting🛫 Perfect for: UK ravers\, solo travelers\, music lovers\, and first-time festival goers \nIt’s more than a rave. It’s a summer escape.
URL:https://unitevent.com/event/rong-open-air-festival-malta-2025/
LOCATION:UNO Malta\, Parco nazionale di Ta' Qali\, San Ġiljan\, Malta\, ATD4000\, Malta
ATTACH;FMTTYPE=image/jpeg:https://unitevent.com/wp-content/uploads/2025/04/Open-Air.jpg
END:VEVENT
BEGIN:VEVENT
DTSTART;TZID=UTC:20250501T220000
DTEND;TZID=UTC:20250503T040000
DTSTAMP:20260425T103344
CREATED:20250331T211224Z
LAST-MODIFIED:20260330T133857Z
UID:7111-1746136800-1746244800@unitevent.com
SUMMARY:SPRING BREAK MALTA - French Festival - Gradur\, Naza\, Keblack\, Kaaris
DESCRIPTION:🇫🇷À propos de l’événement\n📍 Malte\, Europe📅 1er – 3 Mai \n✨ 3 jours\, 3 fêtes épiques\, 1 expérience inoubliable ! 🚀🎶 \nPrépare-toi pour le voyage festif le plus fou de l’année à Malte\, l’île où le soleil\, la mer et les beats ne s’arrêtent jamais ! 🌊🔥 Avec ce pass exclusif de 3 jours\, accède aux événements les plus chauds : pool parties\, beach raves et nuits en club de folie avec des artistes internationaux. \n🔥 1er mai – Rooftop Pool Party & Club NightAmbiance assurée avec NAZA & GRADUR sur le rooftop du SO City Hotel\, puis danse jusqu’au bout de la nuit avec SHAD HOTTABOY au Hive Club. \n🏖️ 2 mai – Secret Beach Party & Club TakeoverUne beach party exclusive dans un lieu secret\, suivie d’un show explosif avec KEBLACK au Hive Club. \n🎧 3 mai – Sunset Party & Grand FinaleDanse avec DJ KAWEST à Infinity by Hugo’s\, puis termine le week-end en beauté avec KAARIS enflamment le Hive Club. \n💥 Pourquoi ne pas manquer ça ?✅ Ambiance non-stop du coucher au lever du soleil✅ Les meilleurs artistes français & italiens pour enflammer la scène✅ Lieux d’exception – rooftops\, plages et clubs✅ Énergie de folie avec des fêtards venus de toute l’Europe \n🎟 PASS 3 JOURS EN ÉDITION LIMITÉE – Réserve le tien maintenant avant l’augmentation des prix ! 🚀 \n🇬🇧About Event\n\n\n\n\n📍 Malta\, Europe📅 May 1st – 3rd \n3 Days\, 3 Epic Parties\, 1 Unforgettable Experience! 🚀🎶 \nGet ready for the wildest party trip of the year in Malta\, the island where the sun\, sea\, and beats never stop! 🌊🔥 With this exclusive 3-day pass\, you get access to the hottest events\, featuring pool parties\, beach raves\, and insane club nights with top international artists. \n🔥 May 1st – Rooftop Pool Party & Club NightVibe with NAZA & GRADUR at the SO City Hotel Rooftop and dance till late with SHAD HOTTABOY at Hive Club. \n🏖️ May 2nd – Secret Beach Party & Club TakeoverAn exclusive beach party in a secret location\, followed by an explosive show with KEBLACK at Hive Club. \n🎧 May 3rd – Sunset Party & Grand FinaleDance with DJ KAWEST at Infinity by Hugo’s\, then close the weekend in style with KAARIS tearing up Hive Club. \n💥 Why You Can’t Miss This:✅ Non-stop party vibes from sunset to sunrise✅ Top French & Italian artists bringing the heat✅ Epic venues – rooftops\, beaches\, and clubs✅ Unreal energy with party people from all over Europe \n🎟 LIMITED 3-DAY PASSES AVAILABLE – Secure yours now before prices go up! 🚀
URL:https://unitevent.com/event/spring-break-malta-french-festival-gradur-naza-keblack-kaaris/
LOCATION:Paceville\, St George's Road\, St Julian's\, Paceville\, St Julian\, Malta\, STJ3010\, Malta
ATTACH;FMTTYPE=image/png:https://unitevent.com/wp-content/uploads/2025/03/OFFICIAL-POSTER.png
END:VEVENT
BEGIN:VEVENT
DTSTART;TZID=UTC:20250501T120000
DTEND;TZID=UTC:20250502T010000
DTSTAMP:20260425T103344
CREATED:20250415T140020Z
LAST-MODIFIED:20260330T141518Z
UID:7604-1746100800-1746147600@unitevent.com
SUMMARY:The FREE 1st May UNO Season Opening - Malta
DESCRIPTION:🎶 UNO MALTA SEASON OPENING 2025 – A Day-to-Night Spectacle 🌅✨📅 Wednesday\, May 1st | 📍 UNO Malta \nGet ready as UNO Malta launches Season 25 with a massive day-to-night experience\, headlined by two of the most electrifying names in the global electronic scene: Carlita and Rivo. \n🌍 Carlita – the boundary-pushing artist who’s redefining the electronic genre. From Burning Man and Coachella to Tomorrowland\, Cercle\, and Hï Ibiza\, her sets are a cinematic journey blending deep grooves\, live cello\, modular synths\, and field recordings. Her rise has been nothing short of iconic. \n🚀 Rivo – the viral sensation behind the global remix of Disclosure’s “You & Me” with over 3.5 billion views on TikTok. The French DJ and producer is setting dance floors on fire around the world\, and 2025 is shaping up to be his biggest year yet. \n🎟️ Tickets are live – don’t miss the first major festival event of the summer.This is not just an opening… it’s the beginning of something legendary.#UNOSeason25 #CarlitaLive #RivoOnStage #MaltaEvents2025 #UNOOpeningParty #DayToNightExperience #MaltaNightlife
URL:https://unitevent.com/event/the-free-1st-may-uno-season-opening-malta/
LOCATION:UNO Malta\, Parco nazionale di Ta' Qali\, San Ġiljan\, Malta\, ATD4000\, Malta
ATTACH;FMTTYPE=image/jpeg:https://unitevent.com/wp-content/uploads/2025/04/uno-malta.jpg
END:VEVENT
BEGIN:VEVENT
DTSTART;TZID=UTC:20250419T170000
DTEND;TZID=UTC:20250420T010000
DTSTAMP:20260425T103344
CREATED:20250415T130700Z
LAST-MODIFIED:20260330T141509Z
UID:7598-1745082000-1745110800@unitevent.com
SUMMARY:Strictly - Easter Break Malta
DESCRIPTION:🌴 SPRING BREAK MALTA 2025 – The Ultimate Easter Saturday Party Experience 🎉 \nAfter shutting down Carnival with a SOLD-OUT club takeover\, STRICTLY is back this Easter Saturday with the most talked-about Spring Break event of the season! \n📍 This time\, we’re taking over the iconic and newly renovated Café del Mar Malta\, bringing you sunset vibes\, high-energy beats\, and a next-level atmosphere you won’t want to miss. \n🎧 Special Guest: Joe Lobel – straight from the international stage to light up the dance floor in Malta! \n🔥 No dress code. No rules. Just pure energy\, good music\, and a night you’ll never forget. \n📅 Saturday\, 19th April📌 Venue: Café del Mar\, Malta🎟️ Tickets are flying – secure yours now! \n👉 This is SPRING BREAK – Strictly-style.Sun\, music\, dancing\, and unforgettable memories.Be there or hear about it later.
URL:https://unitevent.com/event/strictly-easter-break-malta/
LOCATION:Café del Mar Malta\, Triq It - Trunciera\, San Pawl il-Baħar SPB 1500\, Buġibba\, Malta\, SPB1500\, Malta
ATTACH;FMTTYPE=image/jpeg:https://unitevent.com/wp-content/uploads/2025/04/easter-party.jpg
END:VEVENT
BEGIN:VEVENT
DTSTART;TZID=UTC:20250412T170000
DTEND;TZID=UTC:20250413T010000
DTSTAMP:20260425T103344
CREATED:20250331T200019Z
LAST-MODIFIED:20260330T141503Z
UID:7081-1744477200-1744506000@unitevent.com
SUMMARY:Secret Sauce - Cafe Del Mar
DESCRIPTION:Get ready for an unforgettable evening at Café del Mar on Saturday\, April 12th\, as we bring you the ultimate sunset party! Kicking off at 5 PM and going late into the night\, immerse yourself in breathtaking sea views\, signature cocktails\, and an electrifying atmosphere. \nRenowned DJ Gianni Romano will be behind the decks\, delivering his signature deep house and melodic beats\, setting the perfect vibe from sunset to after dark. Whether you’re dancing under the open sky or unwinding with a drink in hand\, this is the place to be for an extraordinary night of music\, energy\, and good times. \nGather your friends\, soak in the stunning setting\, and let the rhythm take over. Café del Mar\, April 12th – don’t miss it! 🎶🌅🍹
URL:https://unitevent.com/event/secret-sauce-cafe-del-mar/
LOCATION:Café del Mar Malta\, Triq It - Trunciera\, San Pawl il-Baħar SPB 1500\, Buġibba\, Malta\, SPB1500\, Malta
ATTACH;FMTTYPE=image/jpeg:https://unitevent.com/wp-content/uploads/2025/03/WhatsApp-Image-2025-03-20-at-19.16.17.jpeg
END:VEVENT
BEGIN:VEVENT
DTSTART;TZID=UTC:20250401T080000
DTEND;TZID=UTC:20250401T170000
DTSTAMP:20260425T103344
CREATED:20250401T174002Z
LAST-MODIFIED:20260330T141454Z
UID:7224-1743494400-1743526800@unitevent.com
SUMMARY:GUY2BEZBAR MALTA – 03.08.25
DESCRIPTION:GUY2BEZBAR Live at Tigullio Club 🔥🎤 – A French Rap Experience You Can’t Miss!🗓️ August 03\, 2025 | 📍 Hive Club\, Malta \nGet ready for an unforgettable night as GUY2BEZBAR brings his epic French rap sounds to Hive Club! 🎶🔥 With his unique style\, high-energy performance\, and the best beats\, this is the event you’ve been waiting for. If you’re ready to dance\, vibe\, and party all night long\, this is your night! \nWhat’s included?✅ Artists + Pool + Afterparty + Free Wristband \n🎟 Limited tickets available – grab yours now!
URL:https://unitevent.com/event/guy2bezbar-malta-03-08-25/
LOCATION:Hive Club\, Hive Club\, Hive Club\, Malta
ATTACH;FMTTYPE=image/jpeg:https://unitevent.com/wp-content/uploads/2025/04/guy-2.jpg
END:VEVENT
END:VCALENDAR