BEGIN:VCALENDAR
VERSION:2.0
PRODID:-//Unite Event - ECPv6.15.17.1//NONSGML v1.0//EN
CALSCALE:GREGORIAN
METHOD:PUBLISH
X-WR-CALNAME:Unite Event
X-ORIGINAL-URL:https://unitevent.com
X-WR-CALDESC:Events for Unite Event
REFRESH-INTERVAL;VALUE=DURATION:PT1H
X-Robots-Tag:noindex
X-PUBLISHED-TTL:PT1H
BEGIN:VTIMEZONE
TZID:UTC
BEGIN:STANDARD
TZOFFSETFROM:+0000
TZOFFSETTO:+0000
TZNAME:UTC
DTSTART:20240101T000000
END:STANDARD
END:VTIMEZONE
BEGIN:VEVENT
DTSTART;TZID=UTC:20250601T220000
DTEND;TZID=UTC:20250602T050000
DTSTAMP:20260425T135044
CREATED:20250401T183328Z
LAST-MODIFIED:20260330T142450Z
UID:7286-1748815200-1748840400@unitevent.com
SUMMARY:SOSO MANESS MALTA – 10.09.25
DESCRIPTION:SOSO MANESS Live at Hive Club 🎤🔥 – A Night of Iconic French Rap!🗓️ September 10\, 2025 | 📍 Hive Club\, Malta \nGet ready for a one-of-a-kind experience as SOSO MANESS takes over Hive Club with his unique sound and charismatic stage presence! 🎶💥 Known for his distinctive flow and hook-heavy tracks\, SOSO MANESS will be bringing his A-game to Malta\, delivering an unforgettable night for French rap fans. This is the perfect event for those who love vibrant rap shows and authentic live music. \nWhat’s included?✅ Artists + Free Discount Wristband \n🎟 Tickets are selling out fast – secure yours today!
URL:https://unitevent.com/event/soso-maness-malta-10-09-25/
LOCATION:Hive Club\, Hive Club\, Hive Club\, Malta
ATTACH;FMTTYPE=image/jpeg:https://unitevent.com/wp-content/uploads/2025/04/soso-3.jpg
END:VEVENT
BEGIN:VEVENT
DTSTART;TZID=UTC:20250601T220000
DTEND;TZID=UTC:20250602T040000
DTSTAMP:20260425T135044
CREATED:20250401T182829Z
LAST-MODIFIED:20260330T142104Z
UID:7277-1748815200-1748836800@unitevent.com
SUMMARY:NAZA MALTA – 03.09.25
DESCRIPTION:NAZA Live at Hive Club 🎤🔥 – A Night of French Rap Energy!🗓️ September 3\, 2025 | 📍 Hive Club\, Malta \nGet ready for a night packed with unstoppable energy as NAZA takes over Hive Club with his infectious beats and dynamic rap style! 🎶💥 Known for his catchy hooks and energetic performances\, NAZA is set to light up the stage in Malta with his signature sound. If you’re a fan of French rap and live music that keeps you moving\, this is your chance to experience it all! \nWhat’s included?✅ Artists + Free Discount Wristband \n🎟 Grab your tickets now before they sell out!
URL:https://unitevent.com/event/naza-malta-03-09-25/
LOCATION:Hive Club\, Hive Club\, Hive Club\, Malta
ATTACH;FMTTYPE=image/jpeg:https://unitevent.com/wp-content/uploads/2025/04/naza-2.jpg
END:VEVENT
BEGIN:VEVENT
DTSTART;TZID=UTC:20250601T220000
DTEND;TZID=UTC:20250602T040000
DTSTAMP:20260425T135044
CREATED:20250401T182414Z
LAST-MODIFIED:20260330T142108Z
UID:7269-1748815200-1748836800@unitevent.com
SUMMARY:KAARIS MALTA – 27.08.25
DESCRIPTION:KAARIS Live at Hive Club 🎤🔥 – A Night of French Rap Power!🗓️ August 27\, 2025 | 📍 Hive Club\, Malta \nBrace yourself for an intense night as KAARIS brings his raw energy and gritty rap style to Hive Club! 🎶💥 Known for his powerful delivery and undeniable presence\, KAARIS is ready to shake up the stage with his hard-hitting beats and memorable lyrics. This is the ultimate event for French rap fans looking for an unforgettable live experience! \nWhat’s included?✅ Artists + Pool + Afterparty + Free Wristband \n🎟 Tickets are flying off – get yours now before they’re gone!
URL:https://unitevent.com/event/kaaris-malta-27-08-25/
LOCATION:Hive Club\, Hive Club\, Hive Club\, Malta
ATTACH;FMTTYPE=image/jpeg:https://unitevent.com/wp-content/uploads/2025/04/kaaris-3.jpg
END:VEVENT
BEGIN:VEVENT
DTSTART;TZID=UTC:20250601T220000
DTEND;TZID=UTC:20250602T040000
DTSTAMP:20260425T135044
CREATED:20250401T182206Z
LAST-MODIFIED:20260330T141633Z
UID:7265-1748815200-1748836800@unitevent.com
SUMMARY:BOUSS MALTA – 26.08.25
DESCRIPTION:BOUSS Live at Tigullio Club 🎤🔥 – Unmissable French Rap Vibes!🗓️ August 26\, 2025 | 📍 Tigullio Club\, Malta \nGet ready for an unforgettable night as BOUSS takes over Tigullio Club with his high-energy rap and catchy beats! 🎶💥 Known for his unique style and engaging flow\, this is the perfect event for anyone who loves French rap and electric performances. Don’t miss your chance to experience BOUSS live\, as he delivers an epic show you won’t soon forget! \nWhat’s included?✅ Artists + Free Discount Wristband \n🎟 Tickets are limited\, so grab yours before they sell out!
URL:https://unitevent.com/event/bouss-malta-26-08-25/
LOCATION:UNO Malta\, Parco nazionale di Ta' Qali\, San Ġiljan\, Malta\, ATD4000\, Malta
ATTACH;FMTTYPE=image/jpeg:https://unitevent.com/wp-content/uploads/2025/04/bouss.jpg
END:VEVENT
BEGIN:VEVENT
DTSTART;TZID=UTC:20250601T220000
DTEND;TZID=UTC:20250602T040000
DTSTAMP:20260425T135044
CREATED:20250401T181725Z
LAST-MODIFIED:20260330T141629Z
UID:7257-1748815200-1748836800@unitevent.com
SUMMARY:KEBLACK MALTA – 20.08.25
DESCRIPTION:KEBLACK Live at Hive Club 🎤🔥 – French Rap at Its Finest!🗓️ August 20\, 2025 | 📍 Hive Club\, Malta \nGet ready for a night of unbelievable energy as KEBLACK brings his catchy beats and smooth rap flow to Hive Club! 🎶💥 Known for his infectious rhythm and memorable lyrics\, this is the ultimate event for fans of French rap and high-energy performances. Don’t miss the chance to see KEBLACK live and enjoy a night full of vibes and memories! \nWhat’s included?✅ Artists + Pool + Afterparty + Free Wristband \n🎟 Get your tickets now before they sell out!
URL:https://unitevent.com/event/keblack-malta-20-08-25/
LOCATION:Malta
ATTACH;FMTTYPE=image/jpeg:https://unitevent.com/wp-content/uploads/2025/04/keblack-malta.jpg
END:VEVENT
BEGIN:VEVENT
DTSTART;TZID=UTC:20250601T220000
DTEND;TZID=UTC:20250602T040000
DTSTAMP:20260425T135044
CREATED:20250401T181506Z
LAST-MODIFIED:20260330T141625Z
UID:7253-1748815200-1748836800@unitevent.com
SUMMARY:TAYC MALTA – 19.08.25
DESCRIPTION:TAYC Live at Tigullio Club 🎤🔥 – French Rap Magic at Its Best!🗓️ August 19\, 2025 | 📍 Tigullio Club\, Malta \nGet ready for a night of smooth vibes and powerful French rap as TAYC takes over Tigullio Club! 🎶💥 Experience his unique style\, catchy hooks\, and unforgettable performance that will keep you grooving all night long. If you’re a fan of melodic rap and high-energy beats\, this is the event you can’t miss! \nWhat’s included?✅ Artists + Pool + Afterparty + Free Wristband \n🎟 Limited tickets available – grab yours before it’s too late!
URL:https://unitevent.com/event/tayc-malta-19-08-25/
LOCATION:Tigullio Club\, Spinola Bay\, Triq Mikiel Ang Borg\, San Ġiljan\, Malta\, STJ3050\, Malta
ATTACH;FMTTYPE=image/jpeg:https://unitevent.com/wp-content/uploads/2025/04/tayc-2.jpg
END:VEVENT
BEGIN:VEVENT
DTSTART;TZID=UTC:20250601T220000
DTEND;TZID=UTC:20250602T040000
DTSTAMP:20260425T135044
CREATED:20250401T181247Z
LAST-MODIFIED:20260330T141616Z
UID:7249-1748815200-1748836800@unitevent.com
SUMMARY:KAARIS MALTA – 17.08.25
DESCRIPTION:KAARIS Live at Hive Club 🎤🔥 – A French Rap Night Like No Other!🗓️ August 17\, 2025 | 📍 Tigullio Club\, Malta \nGet ready for a night of epic rap as LACRIM brings his gritty flow and powerful beats to Tigullio Club! 🎶💥 With his raw energy and hard-hitting tracks\, this is the ultimate night for all French rap fans. If you’re looking to experience non-stop music and unforgettable vibes\, this is the event you don’t want to miss! \nWhat’s included?✅ Artists + Pool + Afterparty + Free Wristband \n🎟 Tickets are selling fast – secure yours now!
URL:https://unitevent.com/event/lacrim-malta-17-08-25/
LOCATION:Hive Club\, Hive Club\, Hive Club\, Malta
ATTACH;FMTTYPE=image/jpeg:https://unitevent.com/wp-content/uploads/2025/04/31834720-1e10-4c63-8d4f-57845698a100.jpeg
END:VEVENT
BEGIN:VEVENT
DTSTART;TZID=UTC:20250601T220000
DTEND;TZID=UTC:20250602T040000
DTSTAMP:20260425T135044
CREATED:20250401T181017Z
LAST-MODIFIED:20260330T141611Z
UID:7245-1748815200-1748836800@unitevent.com
SUMMARY:GRADUR MALTA – 13.08.25
DESCRIPTION:GRADUR Live at Hive Club 🎤🔥 – The Ultimate French Rap Night!🗓️ August 13\, 2025 | 📍 Hive Club\, Malta \nDon’t miss the chance to see GRADUR take over Hive Club with his signature rap style and high-energy performance! 🎶💥 This is the night to experience raw beats\, smooth flows\, and an electrifying atmosphere. If you’re ready to vibe to the hottest French rap and enjoy a night full of unstoppable music and unforgettable moments\, this event is for you! \nWhat’s included?✅ Artists + Pool + Afterparty + Free Wristband \n🎟 Get your tickets now – don’t miss out!
URL:https://unitevent.com/event/gradur-malta-13-08-25/
LOCATION:Hive Club\, Hive Club\, Hive Club\, Malta
ATTACH;FMTTYPE=image/jpeg:https://unitevent.com/wp-content/uploads/2025/04/gradur-2.jpg
END:VEVENT
BEGIN:VEVENT
DTSTART;TZID=UTC:20250601T220000
DTEND;TZID=UTC:20250602T040000
DTSTAMP:20260425T135044
CREATED:20250401T180751Z
LAST-MODIFIED:20260330T141605Z
UID:7241-1748815200-1748836800@unitevent.com
SUMMARY:GIMS MALTA – 29.07.25
DESCRIPTION:GIMS Live at Tigullio Club 🎤🔥 – A French Rap Show You Can’t Miss!🗓️ July 29\, 2025 | 📍 Tigullio Club\, Malta \nGet ready for an unforgettable night as GIMS brings his iconic French rap hits and unstoppable energy to Tigullio Club! 🎶💥 With his smooth flow\, electrifying beats\, and high-energy performance\, this is the ultimate party for all rap and music lovers. If you’re ready to vibe\, dance\, and experience the best of French rap\, this is your night! \nWhat’s included?✅ Artists + Pool + Afterparty + Free Wristband \n🎟 Hurry\, tickets are selling fast – grab yours today!
URL:https://unitevent.com/event/gims-malta-12-08-25/
LOCATION:Tigullio Club\, Spinola Bay\, Triq Mikiel Ang Borg\, San Ġiljan\, Malta\, STJ3050\, Malta
ATTACH;FMTTYPE=image/jpeg:https://unitevent.com/wp-content/uploads/2025/04/Untitled-1.jpg
END:VEVENT
BEGIN:VEVENT
DTSTART;TZID=UTC:20250601T190000
DTEND;TZID=UTC:20250601T230000
DTSTAMP:20260425T135045
CREATED:20250428T133657Z
LAST-MODIFIED:20260330T141559Z
UID:7872-1748804400-1748818800@unitevent.com
SUMMARY:Malta: Sunset Foam Rooftop Pool Party
DESCRIPTION:Enjoy an evening to remember in at the Rooftop Pool Party in Paceville – an experience you absolutely can’t miss. Hosted on the rooftop of a luxurious 4-star superior hotel in the heart of Paceville’s vibrant nightlife scene\, this event promises an unforgettable evening of fun and glamour. \nThe night is yours to enjoy. Relax in the shimmering pool\, dance the night away to the hottest beats\, or savor food and drinks available on spot. \nBe sure to appreciate what truly sets this party apart – the breathtaking panoramic view of Paceville. As the sun sets and the city lights up\, be mesmerized by the stunning cityscape and Malta’s iconic skyline. \nFor an extraordinary night where every moment is designed to thrill\, enjoy and experience like no other at the Rooftop Pool Party in Paceville.
URL:https://unitevent.com/event/malta-sunset-foam-rooftop-pool-party/
LOCATION:Noru Hotel\, Triq Elija Zammit\, San Ġiljan STJ3151\, Saint Julian's\, Malta\, STJ3050\, Malta
ATTACH;FMTTYPE=image/jpeg:https://unitevent.com/wp-content/uploads/2025/04/Foam-Pool-Party.jpg
END:VEVENT
BEGIN:VEVENT
DTSTART;TZID=UTC:20250601T150000
DTEND;TZID=UTC:20250828T220000
DTSTAMP:20260425T135045
CREATED:20250404T075857Z
LAST-MODIFIED:20250710T144342Z
UID:7418-1748790000-1756418400@unitevent.com
SUMMARY:Bora Bora - Pool Party Malta
DESCRIPTION:🌊 Ultimate Pool Party at Bora Bora Ibiza Hotel – Every Thursday in Malta! 🎉\nGet ready for the wildest pool party in Malta! Join us every Thursday at Bora Bora Ibiza Hotel for an epic summer experience featuring live entertainment\, thrilling animations\, and fun games. \n🔥 What to Expect:✅ Live DJ sets & artists bringing the best summer beats 🎶✅ Exciting water slides & poolside games 🌊🎯✅ Electrifying energy & vibrant party vibes all day long 🚀✅ Refreshing drinks & cocktails served poolside 🍹✅ Free wristband for exclusive access 🎟️ \n📍 Venue: Bora Bora Ibiza Hotel\, Malta📅 Every Thursday | 3:00 PM – 9:00 PM \nDive into the ultimate summer pool party and keep the vibes going all night! 🎊💦 \n🎟️ Tickets are selling fast – Secure yours now!
URL:https://unitevent.com/event/bora-bora-pool-party-malta/
LOCATION:Bora-Bora Ibiza-Malta Resort\, https://www.google.com/url?sa=t&rct=j&q=&esrc=s&source=web&cd=&cad=rja&uact=8&ved=2ahUKEwjGz7GO6r2MAxWWcaQEHcwzCoAQ4kB6BAg-EAM&url=mapsplacedata!4m2!3m1!1s0x130e4feea2e69f8b0x1f2105e56e4a1c2bsaXved1t8290ictx111&usg=AOvVaw0iMDx3wRWy4eGiU2v2mbwf&opi=89978449\, St Paul's Bay\, Malta\, SPB 3010
ATTACH;FMTTYPE=image/jpeg:https://unitevent.com/wp-content/uploads/2025/04/bora-bora-malta.jpg
END:VEVENT
BEGIN:VEVENT
DTSTART;TZID=UTC:20250530T000000
DTEND;TZID=UTC:20250601T000000
DTSTAMP:20260425T135045
CREATED:20250416T104950Z
LAST-MODIFIED:20260330T141530Z
UID:7626-1748563200-1748736000@unitevent.com
SUMMARY:Triip Festival Malta
DESCRIPTION:🎉 THE TRIIP 2025 LINE-UP IS HERE – CURATED BY FISHER HIMSELF 🎧🐟Get ready\, party people – Triip Festival Malta 2025 just dropped the wildest DJ line-up of the summer and it’s 100% certified by the one and only FISHER. \n🔥 The Fish has handpicked a crew of world-renowned DJs who are about to turn Malta upside down with non-stop energy\, huge sets\, and pure madness from start to finish. Whether you’re here for your first rave abroad or you’re a festival addict\, Triip 2025 is where it’s all going down. \n🚨 First-Time TRIIPERS Incoming:Sven Väth\, Patrick Topping\, Gordo\, Ida Engberg\, Hugel\, Mëstiza + many more making their Triip debut. \n🔥 Returning Legends:Cloonee\, Andrea Oliva\, Nic Fanciulli\, Mele\, Eats Everything\, and of course the Mad Dog crew: Richy Penny\, Little Fritter\, Shimmy\, Ronald Rowley\, Kitchen Kween and more familiar faces. \n🎧 And yes… FISHER will be everywhere.4 massive sets. Multiple venues. Full send. Expect him to host\, hype\, and go wild right along with you.The man’s not just performing—he’s running the vibe all weekend long. \n📅 Dates: Summer 2025 – Malta📍 Epic locations across the island🎟️ Tickets dropping soon – Don’t miss your chance to be part of the madness \n🌊 Sun\, sea\, and full-on rave energy. This isn’t just another festival.It’s TRIIP.
URL:https://unitevent.com/event/triip-festival-malta/
LOCATION:UNO Malta\, Parco nazionale di Ta' Qali\, San Ġiljan\, Malta\, ATD4000\, Malta
ATTACH;FMTTYPE=image/jpeg:https://unitevent.com/wp-content/uploads/2025/04/Triip-Festival.jpg
END:VEVENT
BEGIN:VEVENT
DTSTART;TZID=UTC:20250508T080000
DTEND;TZID=UTC:20250511T233000
DTSTAMP:20260425T135045
CREATED:20250415T143037Z
LAST-MODIFIED:20260330T141525Z
UID:7611-1746691200-1747006200@unitevent.com
SUMMARY:Rong Open Air Festival Malta 2025
DESCRIPTION:🎧 THE NEW HOME OF TRANCE IN EUROPE – OUTDOOR RAVE FESTIVAL IN MALTA 🌅💥Sun. Sound. Trance. Paradise. \nBeen looking for the ultimate Trance festival in Europe?This is it. Your search ends here. Welcome to the new home of Trance — under the sun\, by the sea\, and surrounded by thousands of ravers who live for the drop. \n🔥 After years of dreaming\, we’re finally launching our own open-air rave experience—and we’re doing it where the vibes hit different: MALTA.No more muddy fields or washed-out weekends.Just sun-soaked days\, epic sunsets\, and non-stop Trance music from your favorite artists. \nWhether you’re planning your first rave abroad or you’re a festival pro\, this is your chance to dance in a new destination with perfect weather\, affordable flights\, and beachside parties you’ll never forget. \n🎟️ Tickets coming soon – sign up to be the first in line📍 Location: Malta🔊 Genre: Trance / Progressive / Tech / Uplifting🛫 Perfect for: UK ravers\, solo travelers\, music lovers\, and first-time festival goers \nIt’s more than a rave. It’s a summer escape.
URL:https://unitevent.com/event/rong-open-air-festival-malta-2025/
LOCATION:UNO Malta\, Parco nazionale di Ta' Qali\, San Ġiljan\, Malta\, ATD4000\, Malta
ATTACH;FMTTYPE=image/jpeg:https://unitevent.com/wp-content/uploads/2025/04/Open-Air.jpg
END:VEVENT
BEGIN:VEVENT
DTSTART;TZID=UTC:20250501T220000
DTEND;TZID=UTC:20250503T040000
DTSTAMP:20260425T135045
CREATED:20250331T211224Z
LAST-MODIFIED:20260330T133857Z
UID:7111-1746136800-1746244800@unitevent.com
SUMMARY:SPRING BREAK MALTA - French Festival - Gradur\, Naza\, Keblack\, Kaaris
DESCRIPTION:🇫🇷À propos de l’événement\n📍 Malte\, Europe📅 1er – 3 Mai \n✨ 3 jours\, 3 fêtes épiques\, 1 expérience inoubliable ! 🚀🎶 \nPrépare-toi pour le voyage festif le plus fou de l’année à Malte\, l’île où le soleil\, la mer et les beats ne s’arrêtent jamais ! 🌊🔥 Avec ce pass exclusif de 3 jours\, accède aux événements les plus chauds : pool parties\, beach raves et nuits en club de folie avec des artistes internationaux. \n🔥 1er mai – Rooftop Pool Party & Club NightAmbiance assurée avec NAZA & GRADUR sur le rooftop du SO City Hotel\, puis danse jusqu’au bout de la nuit avec SHAD HOTTABOY au Hive Club. \n🏖️ 2 mai – Secret Beach Party & Club TakeoverUne beach party exclusive dans un lieu secret\, suivie d’un show explosif avec KEBLACK au Hive Club. \n🎧 3 mai – Sunset Party & Grand FinaleDanse avec DJ KAWEST à Infinity by Hugo’s\, puis termine le week-end en beauté avec KAARIS enflamment le Hive Club. \n💥 Pourquoi ne pas manquer ça ?✅ Ambiance non-stop du coucher au lever du soleil✅ Les meilleurs artistes français & italiens pour enflammer la scène✅ Lieux d’exception – rooftops\, plages et clubs✅ Énergie de folie avec des fêtards venus de toute l’Europe \n🎟 PASS 3 JOURS EN ÉDITION LIMITÉE – Réserve le tien maintenant avant l’augmentation des prix ! 🚀 \n🇬🇧About Event\n\n\n\n\n📍 Malta\, Europe📅 May 1st – 3rd \n3 Days\, 3 Epic Parties\, 1 Unforgettable Experience! 🚀🎶 \nGet ready for the wildest party trip of the year in Malta\, the island where the sun\, sea\, and beats never stop! 🌊🔥 With this exclusive 3-day pass\, you get access to the hottest events\, featuring pool parties\, beach raves\, and insane club nights with top international artists. \n🔥 May 1st – Rooftop Pool Party & Club NightVibe with NAZA & GRADUR at the SO City Hotel Rooftop and dance till late with SHAD HOTTABOY at Hive Club. \n🏖️ May 2nd – Secret Beach Party & Club TakeoverAn exclusive beach party in a secret location\, followed by an explosive show with KEBLACK at Hive Club. \n🎧 May 3rd – Sunset Party & Grand FinaleDance with DJ KAWEST at Infinity by Hugo’s\, then close the weekend in style with KAARIS tearing up Hive Club. \n💥 Why You Can’t Miss This:✅ Non-stop party vibes from sunset to sunrise✅ Top French & Italian artists bringing the heat✅ Epic venues – rooftops\, beaches\, and clubs✅ Unreal energy with party people from all over Europe \n🎟 LIMITED 3-DAY PASSES AVAILABLE – Secure yours now before prices go up! 🚀
URL:https://unitevent.com/event/spring-break-malta-french-festival-gradur-naza-keblack-kaaris/
LOCATION:Paceville\, St George's Road\, St Julian's\, Paceville\, St Julian\, Malta\, STJ3010\, Malta
ATTACH;FMTTYPE=image/png:https://unitevent.com/wp-content/uploads/2025/03/OFFICIAL-POSTER.png
END:VEVENT
BEGIN:VEVENT
DTSTART;TZID=UTC:20250501T120000
DTEND;TZID=UTC:20250502T010000
DTSTAMP:20260425T135045
CREATED:20250415T140020Z
LAST-MODIFIED:20260330T141518Z
UID:7604-1746100800-1746147600@unitevent.com
SUMMARY:The FREE 1st May UNO Season Opening - Malta
DESCRIPTION:🎶 UNO MALTA SEASON OPENING 2025 – A Day-to-Night Spectacle 🌅✨📅 Wednesday\, May 1st | 📍 UNO Malta \nGet ready as UNO Malta launches Season 25 with a massive day-to-night experience\, headlined by two of the most electrifying names in the global electronic scene: Carlita and Rivo. \n🌍 Carlita – the boundary-pushing artist who’s redefining the electronic genre. From Burning Man and Coachella to Tomorrowland\, Cercle\, and Hï Ibiza\, her sets are a cinematic journey blending deep grooves\, live cello\, modular synths\, and field recordings. Her rise has been nothing short of iconic. \n🚀 Rivo – the viral sensation behind the global remix of Disclosure’s “You & Me” with over 3.5 billion views on TikTok. The French DJ and producer is setting dance floors on fire around the world\, and 2025 is shaping up to be his biggest year yet. \n🎟️ Tickets are live – don’t miss the first major festival event of the summer.This is not just an opening… it’s the beginning of something legendary.#UNOSeason25 #CarlitaLive #RivoOnStage #MaltaEvents2025 #UNOOpeningParty #DayToNightExperience #MaltaNightlife
URL:https://unitevent.com/event/the-free-1st-may-uno-season-opening-malta/
LOCATION:UNO Malta\, Parco nazionale di Ta' Qali\, San Ġiljan\, Malta\, ATD4000\, Malta
ATTACH;FMTTYPE=image/jpeg:https://unitevent.com/wp-content/uploads/2025/04/uno-malta.jpg
END:VEVENT
BEGIN:VEVENT
DTSTART;TZID=UTC:20250419T170000
DTEND;TZID=UTC:20250420T010000
DTSTAMP:20260425T135045
CREATED:20250415T130700Z
LAST-MODIFIED:20260330T141509Z
UID:7598-1745082000-1745110800@unitevent.com
SUMMARY:Strictly - Easter Break Malta
DESCRIPTION:🌴 SPRING BREAK MALTA 2025 – The Ultimate Easter Saturday Party Experience 🎉 \nAfter shutting down Carnival with a SOLD-OUT club takeover\, STRICTLY is back this Easter Saturday with the most talked-about Spring Break event of the season! \n📍 This time\, we’re taking over the iconic and newly renovated Café del Mar Malta\, bringing you sunset vibes\, high-energy beats\, and a next-level atmosphere you won’t want to miss. \n🎧 Special Guest: Joe Lobel – straight from the international stage to light up the dance floor in Malta! \n🔥 No dress code. No rules. Just pure energy\, good music\, and a night you’ll never forget. \n📅 Saturday\, 19th April📌 Venue: Café del Mar\, Malta🎟️ Tickets are flying – secure yours now! \n👉 This is SPRING BREAK – Strictly-style.Sun\, music\, dancing\, and unforgettable memories.Be there or hear about it later.
URL:https://unitevent.com/event/strictly-easter-break-malta/
LOCATION:Café del Mar Malta\, Triq It - Trunciera\, San Pawl il-Baħar SPB 1500\, Buġibba\, Malta\, SPB1500\, Malta
ATTACH;FMTTYPE=image/jpeg:https://unitevent.com/wp-content/uploads/2025/04/easter-party.jpg
END:VEVENT
BEGIN:VEVENT
DTSTART;TZID=UTC:20250412T170000
DTEND;TZID=UTC:20250413T010000
DTSTAMP:20260425T135045
CREATED:20250331T200019Z
LAST-MODIFIED:20260330T141503Z
UID:7081-1744477200-1744506000@unitevent.com
SUMMARY:Secret Sauce - Cafe Del Mar
DESCRIPTION:Get ready for an unforgettable evening at Café del Mar on Saturday\, April 12th\, as we bring you the ultimate sunset party! Kicking off at 5 PM and going late into the night\, immerse yourself in breathtaking sea views\, signature cocktails\, and an electrifying atmosphere. \nRenowned DJ Gianni Romano will be behind the decks\, delivering his signature deep house and melodic beats\, setting the perfect vibe from sunset to after dark. Whether you’re dancing under the open sky or unwinding with a drink in hand\, this is the place to be for an extraordinary night of music\, energy\, and good times. \nGather your friends\, soak in the stunning setting\, and let the rhythm take over. Café del Mar\, April 12th – don’t miss it! 🎶🌅🍹
URL:https://unitevent.com/event/secret-sauce-cafe-del-mar/
LOCATION:Café del Mar Malta\, Triq It - Trunciera\, San Pawl il-Baħar SPB 1500\, Buġibba\, Malta\, SPB1500\, Malta
ATTACH;FMTTYPE=image/jpeg:https://unitevent.com/wp-content/uploads/2025/03/WhatsApp-Image-2025-03-20-at-19.16.17.jpeg
END:VEVENT
BEGIN:VEVENT
DTSTART;TZID=UTC:20250401T080000
DTEND;TZID=UTC:20250401T170000
DTSTAMP:20260425T135045
CREATED:20250401T174002Z
LAST-MODIFIED:20260330T141454Z
UID:7224-1743494400-1743526800@unitevent.com
SUMMARY:GUY2BEZBAR MALTA – 03.08.25
DESCRIPTION:GUY2BEZBAR Live at Tigullio Club 🔥🎤 – A French Rap Experience You Can’t Miss!🗓️ August 03\, 2025 | 📍 Hive Club\, Malta \nGet ready for an unforgettable night as GUY2BEZBAR brings his epic French rap sounds to Hive Club! 🎶🔥 With his unique style\, high-energy performance\, and the best beats\, this is the event you’ve been waiting for. If you’re ready to dance\, vibe\, and party all night long\, this is your night! \nWhat’s included?✅ Artists + Pool + Afterparty + Free Wristband \n🎟 Limited tickets available – grab yours now!
URL:https://unitevent.com/event/guy2bezbar-malta-03-08-25/
LOCATION:Hive Club\, Hive Club\, Hive Club\, Malta
ATTACH;FMTTYPE=image/jpeg:https://unitevent.com/wp-content/uploads/2025/04/guy-2.jpg
END:VEVENT
END:VCALENDAR